BEGIN:VCALENDAR
VERSION:2.0
PRODID:Tradicional Magusto
X-WR-CALNAME:Tradicional Magusto
X-WR-TIMEZONE:Europe/Lisbon
X-PUBLISHED-TTL:P1W
BEGIN:VTIMEZONE
TZID:Europe/Lisbon
X-LIC-LOCATION:Europe/Lisbon
END:VTIMEZONE
BEGIN:VEVENT
UID:69e4da6b743e9
DTSTART;VALUE=DATE:20191117
SEQUENCE:0
TRANSP:OPAQUE
DTEND;VALUE=DATE:20191118
SUMMARY:Tradicional Magusto
CLASS:PUBLIC
DESCRIPTION:\n\nA Junta de Freguesia de Creixomil e Mariz tem a honra de co
 nvidar toda a comunidade da freguesia para o Magusto\, que se irá realiza
 r no dia 17 de Novembro de 2019\, na Sede de Junta - Mariz\, pelas 15h00.C
 om Animação Musical do Grupo Magistuna.Contamos consigo para um bom conv
 ívio.\n\n
X-MICROSOFT-CDO-ALLDAYEVENT:TRUE
DTSTAMP:20260419T133643Z
END:VEVENT
END:VCALENDAR