BEGIN:VCALENDAR
VERSION:2.0
PRODID:Energia & Natureza
X-WR-CALNAME:Energia & Natureza
X-WR-TIMEZONE:Europe/Lisbon
X-PUBLISHED-TTL:P1W
BEGIN:VTIMEZONE
TZID:Europe/Lisbon
X-LIC-LOCATION:Europe/Lisbon
END:VTIMEZONE
BEGIN:VEVENT
UID:69e4da21ae569
DTSTART;VALUE=DATE:20190728
SEQUENCE:0
TRANSP:OPAQUE
DTEND;VALUE=DATE:20190729
SUMMARY:Energia & Natureza
CLASS:PUBLIC
DESCRIPTION:\n\nA Junta de Freguesia de Creixomil e Mariz\, em parcerias co
 m as associações da Freguesia:Associação Cultural e Recreativa de Crei
 xomil - IPSS (ATL das Cotovias)\;Associação Cultural Recreativa e Despor
 tiva de Mariz\;JUNIPAC\;Associação de Pais de Creixomil\,vão organizar 
 no dia 28 de julho de 2019\, no Parque de Merendas Levada Pelandré - Crei
 xomil\, um dia de atividade física\, recreativa e convívio.Há atividade
 s para TODOS: Crianças\, Jovens\, Adultos e Seniores.Convidamos a toda a 
 população de Creixomil e Mariz a organizar o seu programa de domingo\, c
 om caminhada pela manhã\, pic-nic à hora de almoço\, e boa disposição
  para esta tarde de domingo\, a programação promete.\n\n
X-MICROSOFT-CDO-ALLDAYEVENT:TRUE
DTSTAMP:20260419T133529Z
END:VEVENT
END:VCALENDAR